BEGIN:VCALENDAR
VERSION:2.0
PRODID:-//The Minster Nursery and Infants School - ECPv6.15.20//NONSGML v1.0//EN
CALSCALE:GREGORIAN
METHOD:PUBLISH
X-WR-CALNAME:The Minster Nursery and Infants School
X-ORIGINAL-URL:https://minsterinfants.co.uk
X-WR-CALDESC:Events for The Minster Nursery and Infants School
REFRESH-INTERVAL;VALUE=DURATION:PT1H
X-Robots-Tag:noindex
X-PUBLISHED-TTL:PT1H
BEGIN:VTIMEZONE
TZID:UTC
BEGIN:STANDARD
TZOFFSETFROM:+0000
TZOFFSETTO:+0000
TZNAME:UTC
DTSTART:20250101T000000
END:STANDARD
END:VTIMEZONE
BEGIN:VEVENT
DTSTART;VALUE=DATE:20260223
DTEND;VALUE=DATE:20260224
DTSTAMP:20260420T075526
CREATED:20251007T145703Z
LAST-MODIFIED:20251007T145703Z
UID:10910-1771804800-1771891199@minsterinfants.co.uk
SUMMARY:Term Starts for children – Monday 23rd February 2026
DESCRIPTION:Term Starts for children – Monday 23rd February 2026
URL:https://minsterinfants.co.uk/event/term-starts-for-children-monday-23rd-february-2026/
END:VEVENT
END:VCALENDAR