BEGIN:VCALENDAR
VERSION:2.0
PRODID:-//The Minster Nursery and Infants School - ECPv6.15.20//NONSGML v1.0//EN
CALSCALE:GREGORIAN
METHOD:PUBLISH
X-ORIGINAL-URL:https://minsterinfants.co.uk
X-WR-CALDESC:Events for The Minster Nursery and Infants School
REFRESH-INTERVAL;VALUE=DURATION:PT1H
X-Robots-Tag:noindex
X-PUBLISHED-TTL:PT1H
BEGIN:VTIMEZONE
TZID:UTC
BEGIN:STANDARD
TZOFFSETFROM:+0000
TZOFFSETTO:+0000
TZNAME:UTC
DTSTART:20250101T000000
END:STANDARD
END:VTIMEZONE
BEGIN:VEVENT
DTSTART;VALUE=DATE:20260324
DTEND;VALUE=DATE:20260325
DTSTAMP:20260420T075759
CREATED:20251111T063300Z
LAST-MODIFIED:20251111T063300Z
UID:11068-1774310400-1774396799@minsterinfants.co.uk
SUMMARY:Easter Service\, Croydon Minster 9.30am
DESCRIPTION:Easter Service\, Croydon Minster 9.30am
URL:https://minsterinfants.co.uk/event/easter-service-croydon-minster-9-30am/
END:VEVENT
END:VCALENDAR