BEGIN:VCALENDAR
VERSION:2.0
PRODID:-//The Minster Nursery and Infants School - ECPv6.15.20//NONSGML v1.0//EN
CALSCALE:GREGORIAN
METHOD:PUBLISH
X-WR-CALNAME:The Minster Nursery and Infants School
X-ORIGINAL-URL:https://minsterinfants.co.uk
X-WR-CALDESC:Events for The Minster Nursery and Infants School
REFRESH-INTERVAL;VALUE=DURATION:PT1H
X-Robots-Tag:noindex
X-PUBLISHED-TTL:PT1H
BEGIN:VTIMEZONE
TZID:UTC
BEGIN:STANDARD
TZOFFSETFROM:+0000
TZOFFSETTO:+0000
TZNAME:UTC
DTSTART:20250101T000000
END:STANDARD
END:VTIMEZONE
BEGIN:VEVENT
DTSTART;VALUE=DATE:20260327
DTEND;VALUE=DATE:20260328
DTSTAMP:20260420T075623
CREATED:20251007T145726Z
LAST-MODIFIED:20251007T145726Z
UID:10912-1774569600-1774655999@minsterinfants.co.uk
SUMMARY:Term Ends – Friday 27th March 2026 children finish at 1.30pm
DESCRIPTION:Term Ends – Friday 27th March 2026 children finish at 1.30pm
URL:https://minsterinfants.co.uk/event/term-ends-friday-27th-march-2026-children-finish-at-1-30pm/
END:VEVENT
END:VCALENDAR