BEGIN:VCALENDAR
VERSION:2.0
PRODID:-//The Minster Nursery and Infants School - ECPv6.15.20//NONSGML v1.0//EN
CALSCALE:GREGORIAN
METHOD:PUBLISH
X-WR-CALNAME:The Minster Nursery and Infants School
X-ORIGINAL-URL:https://minsterinfants.co.uk
X-WR-CALDESC:Events for The Minster Nursery and Infants School
REFRESH-INTERVAL;VALUE=DURATION:PT1H
X-Robots-Tag:noindex
X-PUBLISHED-TTL:PT1H
BEGIN:VTIMEZONE
TZID:UTC
BEGIN:STANDARD
TZOFFSETFROM:+0000
TZOFFSETTO:+0000
TZNAME:UTC
DTSTART:20250101T000000
END:STANDARD
END:VTIMEZONE
BEGIN:VEVENT
DTSTART;VALUE=DATE:20260414
DTEND;VALUE=DATE:20260415
DTSTAMP:20260420T060414
CREATED:20251111T063403Z
LAST-MODIFIED:20251111T063403Z
UID:11070-1776124800-1776211199@minsterinfants.co.uk
SUMMARY:Parents evening Year 1 – Year 6 from 3.30pm
DESCRIPTION:Parents evening Year 1 – Year 6 from 3.30pm
URL:https://minsterinfants.co.uk/event/parents-evening-year-1-year-6-from-3-30pm-3/
END:VEVENT
END:VCALENDAR