BEGIN:VCALENDAR
VERSION:2.0
PRODID:-//The Minster Nursery and Infants School - ECPv6.15.20//NONSGML v1.0//EN
CALSCALE:GREGORIAN
METHOD:PUBLISH
X-ORIGINAL-URL:https://minsterinfants.co.uk
X-WR-CALDESC:Events for The Minster Nursery and Infants School
REFRESH-INTERVAL;VALUE=DURATION:PT1H
X-Robots-Tag:noindex
X-PUBLISHED-TTL:PT1H
BEGIN:VTIMEZONE
TZID:UTC
BEGIN:STANDARD
TZOFFSETFROM:+0000
TZOFFSETTO:+0000
TZNAME:UTC
DTSTART:20250101T000000
END:STANDARD
END:VTIMEZONE
BEGIN:VEVENT
DTSTART;VALUE=DATE:20260416
DTEND;VALUE=DATE:20260417
DTSTAMP:20260420T060755
CREATED:20251111T063421Z
LAST-MODIFIED:20251111T063421Z
UID:11072-1776297600-1776383999@minsterinfants.co.uk
SUMMARY:Parents evening Year 1 – Year 6 from 3.30pm
DESCRIPTION:Parents evening Year 1 – Year 6 from 3.30pm
URL:https://minsterinfants.co.uk/event/parents-evening-year-1-year-6-from-3-30pm-4/
END:VEVENT
END:VCALENDAR