BEGIN:VCALENDAR
VERSION:2.0
PRODID:-//The Minster Nursery and Infants School - ECPv6.15.20//NONSGML v1.0//EN
CALSCALE:GREGORIAN
METHOD:PUBLISH
X-WR-CALNAME:The Minster Nursery and Infants School
X-ORIGINAL-URL:https://minsterinfants.co.uk
X-WR-CALDESC:Events for The Minster Nursery and Infants School
REFRESH-INTERVAL;VALUE=DURATION:PT1H
X-Robots-Tag:noindex
X-PUBLISHED-TTL:PT1H
BEGIN:VTIMEZONE
TZID:UTC
BEGIN:STANDARD
TZOFFSETFROM:+0000
TZOFFSETTO:+0000
TZNAME:UTC
DTSTART:20250101T000000
END:STANDARD
END:VTIMEZONE
BEGIN:VEVENT
DTSTART;VALUE=DATE:20260504
DTEND;VALUE=DATE:20260505
DTSTAMP:20260420T061853
CREATED:20251007T145942Z
LAST-MODIFIED:20251007T145942Z
UID:10918-1777852800-1777939199@minsterinfants.co.uk
SUMMARY:Bank Holiday – Monday 4th May 2026
DESCRIPTION:Bank Holiday – Monday 4th May 2026
URL:https://minsterinfants.co.uk/event/bank-holiday-monday-4th-may-2026/
END:VEVENT
BEGIN:VEVENT
DTSTART;VALUE=DATE:20260505
DTEND;VALUE=DATE:20260506
DTSTAMP:20260420T061853
CREATED:20251111T063533Z
LAST-MODIFIED:20251111T063533Z
UID:11076-1777939200-1778025599@minsterinfants.co.uk
SUMMARY:Class photographs for Years 3 to 6
DESCRIPTION:Class photographs for Years 3 to 6
URL:https://minsterinfants.co.uk/event/class-photographs-for-years-3-to-6/
END:VEVENT
BEGIN:VEVENT
DTSTART;VALUE=DATE:20260507
DTEND;VALUE=DATE:20260508
DTSTAMP:20260420T061853
CREATED:20251111T063558Z
LAST-MODIFIED:20251111T063558Z
UID:11078-1778112000-1778198399@minsterinfants.co.uk
SUMMARY:Year 1 Blackbirds class trip to Morden Hall
DESCRIPTION:Year 1 Blackbirds class trip to Morden Hall
URL:https://minsterinfants.co.uk/event/year-1-blackbirds-class-trip-to-morden-hall/
END:VEVENT
BEGIN:VEVENT
DTSTART;VALUE=DATE:20260508
DTEND;VALUE=DATE:20260509
DTSTAMP:20260420T061853
CREATED:20251111T063616Z
LAST-MODIFIED:20251111T063616Z
UID:11080-1778198400-1778284799@minsterinfants.co.uk
SUMMARY:Year 1 Starlings class trip to Morden Hall
DESCRIPTION:Year 1 Starlings class trip to Morden Hall
URL:https://minsterinfants.co.uk/event/year-1-starlings-class-trip-to-morden-hall/
END:VEVENT
BEGIN:VEVENT
DTSTART;VALUE=DATE:20260511
DTEND;VALUE=DATE:20260512
DTSTAMP:20260420T061853
CREATED:20251111T063636Z
LAST-MODIFIED:20251111T063636Z
UID:11082-1778457600-1778543999@minsterinfants.co.uk
SUMMARY:Class photographs Nursery to Year 2
DESCRIPTION:Class photographs Nursery to Year 2
URL:https://minsterinfants.co.uk/event/class-photographs-nursery-to-year-2/
END:VEVENT
BEGIN:VEVENT
DTSTART;VALUE=DATE:20260518
DTEND;VALUE=DATE:20260519
DTSTAMP:20260420T061853
CREATED:20251111T063702Z
LAST-MODIFIED:20251111T063702Z
UID:11084-1779062400-1779148799@minsterinfants.co.uk
SUMMARY:Sports Day – to be confirmed
DESCRIPTION:Sports Day – to be confirmed
URL:https://minsterinfants.co.uk/event/sports-day-to-be-confirmed/
END:VEVENT
BEGIN:VEVENT
DTSTART;VALUE=DATE:20260519
DTEND;VALUE=DATE:20260520
DTSTAMP:20260420T061853
CREATED:20251111T063719Z
LAST-MODIFIED:20251111T063719Z
UID:11086-1779148800-1779235199@minsterinfants.co.uk
SUMMARY:Sports Day – to be confirmed
DESCRIPTION:Sports Day – to be confirmed
URL:https://minsterinfants.co.uk/event/sports-day-to-be-confirmed-2/
END:VEVENT
BEGIN:VEVENT
DTSTART;VALUE=DATE:20260522
DTEND;VALUE=DATE:20260523
DTSTAMP:20260420T061853
CREATED:20251007T150004Z
LAST-MODIFIED:20251007T150004Z
UID:10920-1779408000-1779494399@minsterinfants.co.uk
SUMMARY:End of Term – Friday 22nd May 2026
DESCRIPTION:End of Term – Friday 22nd May 2026
URL:https://minsterinfants.co.uk/event/end-of-term-friday-22nd-may-2026/
END:VEVENT
BEGIN:VEVENT
DTSTART;VALUE=DATE:20260525
DTEND;VALUE=DATE:20260530
DTSTAMP:20260420T061853
CREATED:20251007T150033Z
LAST-MODIFIED:20251007T150033Z
UID:10922-1779667200-1780099199@minsterinfants.co.uk
SUMMARY:Half term holiday – Monday 25th May – Friday 29th May 2026
DESCRIPTION:Half term holiday – Monday 25th May – Friday 29th May 2026
URL:https://minsterinfants.co.uk/event/half-term-holiday-monday-25th-may-friday-29th-may-2026/
END:VEVENT
END:VCALENDAR