BEGIN:VCALENDAR
VERSION:2.0
PRODID:-//The Minster Nursery and Infants School - ECPv6.15.20//NONSGML v1.0//EN
CALSCALE:GREGORIAN
METHOD:PUBLISH
X-ORIGINAL-URL:https://minsterinfants.co.uk
X-WR-CALDESC:Events for The Minster Nursery and Infants School
REFRESH-INTERVAL;VALUE=DURATION:PT1H
X-Robots-Tag:noindex
X-PUBLISHED-TTL:PT1H
BEGIN:VTIMEZONE
TZID:UTC
BEGIN:STANDARD
TZOFFSETFROM:+0000
TZOFFSETTO:+0000
TZNAME:UTC
DTSTART:20250101T000000
END:STANDARD
END:VTIMEZONE
BEGIN:VEVENT
DTSTART;VALUE=DATE:20260601
DTEND;VALUE=DATE:20260602
DTSTAMP:20260420T075934
CREATED:20251007T150054Z
LAST-MODIFIED:20251007T150054Z
UID:10924-1780272000-1780358399@minsterinfants.co.uk
SUMMARY:Term starts for Children – Monday 1st June 2026
DESCRIPTION:Term starts for Children – Monday 1st June 2026
URL:https://minsterinfants.co.uk/event/term-starts-for-children-monday-1st-june-2026/
END:VEVENT
BEGIN:VEVENT
DTSTART;VALUE=DATE:20260619
DTEND;VALUE=DATE:20260620
DTSTAMP:20260420T075934
CREATED:20251111T063758Z
LAST-MODIFIED:20251111T063758Z
UID:11088-1781827200-1781913599@minsterinfants.co.uk
SUMMARY:Dress Down Day – donations for summer fair
DESCRIPTION:Dress Down Day – donations for summer fair
URL:https://minsterinfants.co.uk/event/dress-down-day-donations-for-summer-fair/
END:VEVENT
BEGIN:VEVENT
DTSTART;VALUE=DATE:20260625
DTEND;VALUE=DATE:20260626
DTSTAMP:20260420T075934
CREATED:20251111T063822Z
LAST-MODIFIED:20251111T063822Z
UID:11090-1782345600-1782431999@minsterinfants.co.uk
SUMMARY:Summer Fair – After school
DESCRIPTION:Summer Fair – After school
URL:https://minsterinfants.co.uk/event/summer-fair-after-school/
END:VEVENT
BEGIN:VEVENT
DTSTART;VALUE=DATE:20260626
DTEND;VALUE=DATE:20260627
DTSTAMP:20260420T075934
CREATED:20251007T150116Z
LAST-MODIFIED:20251007T150116Z
UID:10926-1782432000-1782518399@minsterinfants.co.uk
SUMMARY:INSET DAY – Friday 26th June 2026
DESCRIPTION:INSET DAY – Friday 26th June 2026
URL:https://minsterinfants.co.uk/event/inset-day-friday-26th-june-2026/
END:VEVENT
BEGIN:VEVENT
DTSTART;VALUE=DATE:20260629
DTEND;VALUE=DATE:20260702
DTSTAMP:20260420T075934
CREATED:20251111T063846Z
LAST-MODIFIED:20251111T063846Z
UID:11092-1782691200-1782950399@minsterinfants.co.uk
SUMMARY:Year 6 residential trip
DESCRIPTION:Year 6 residential trip
URL:https://minsterinfants.co.uk/event/year-6-residential-trip/
END:VEVENT
END:VCALENDAR